BEGIN:VCALENDAR
VERSION:2.0
PRODID:-//VTuberVibes - ECPv6.15.20//NONSGML v1.0//EN
CALSCALE:GREGORIAN
METHOD:PUBLISH
X-WR-CALNAME:VTuberVibes
X-ORIGINAL-URL:https://vtubervibes.com
X-WR-CALDESC:Events for VTuberVibes
REFRESH-INTERVAL;VALUE=DURATION:PT1H
X-Robots-Tag:noindex
X-PUBLISHED-TTL:PT1H
BEGIN:VTIMEZONE
TZID:Asia/Taipei
BEGIN:STANDARD
TZOFFSETFROM:+0800
TZOFFSETTO:+0800
TZNAME:CST
DTSTART:20240101T000000
END:STANDARD
END:VTIMEZONE
BEGIN:VEVENT
DTSTART;TZID=Asia/Taipei:20251201T110000
DTEND;TZID=Asia/Taipei:20251222T210000
DTSTAMP:20260422T134000
CREATED:20251109T180606Z
LAST-MODIFIED:20251109T180842Z
UID:3504-1764586800-1766437200@vtubervibes.com
SUMMARY:子午計畫 × animate Only Shop
DESCRIPTION:活動資訊 \n\n形式：聯名合作店家\n時間：2025/12/01（一）- 2025/12/22（一）\n地點：animate西門站POPUP SHOP（西門地下街）\n名單：橙、煌、玥、幸
URL:https://vtubervibes.com/event/%e5%ad%90%e5%8d%88%e8%a8%88%e7%95%ab-x-animate-only-shop/
LOCATION:animate西門站POPUP SHOP
CATEGORIES:Cafe
ATTACH;FMTTYPE=image/jpeg:https://vtubervibes.com/wp-content/uploads/2025/11/子午計畫x安利美特only-shop-橫式.jpg
END:VEVENT
BEGIN:VEVENT
DTSTART;VALUE=DATE:20251224
DTEND;VALUE=DATE:20260201
DTSTAMP:20260422T134000
CREATED:20251220T165305Z
LAST-MODIFIED:20251220T165305Z
UID:3765-1766534400-1769903999@vtubervibes.com
SUMMARY:hololive Advent VS x 萌番 More Fun聯動主題餐廳
DESCRIPTION:活動資訊 \n\n形式：聯名餐廳\n時間：2025/12/24（三）- 2026/1/31（六）\n地點：\n\n台北-花漾蒔光Blooming（台北市松山區復興北路313巷38號1樓），營業時間：12:30－20:00（二～五）；10:30－20:00（六～日）\n高雄-魯克思咖啡（高雄市左營區修明街166號），營業時間：11:30－20:00（合作餐點供應時間）\n\n\n簡介：來自hololive English的人氣團體「hololive English -Advent-」與「hololive English -Justice-」，即將在主題餐廳登場！透過黑白兩款主餐、象徵羈絆的甜點，以及各成員特色特調飲品，一起沉浸在成員的世界中吧～活動期間還有限定周邊同步販售，千萬別錯過！\n有隨餐特典、打卡贈品、用餐滿額特典與周邊滿額特典
URL:https://vtubervibes.com/event/hololive-advent-vs-x-%e8%90%8c%e7%95%aa-more-fun%e8%81%af%e5%8b%95%e4%b8%bb%e9%a1%8c%e9%a4%90%e5%bb%b3/
LOCATION:花漾蒔光Blooming\, 台北市松山區復興北路313巷38號1樓\, 台北市\, Taiwan
CATEGORIES:Cafe
ATTACH;FMTTYPE=image/jpeg:https://vtubervibes.com/wp-content/uploads/2025/12/202512-hololive-en-morefun-2025-collab.jpg
END:VEVENT
END:VCALENDAR