BEGIN:VCALENDAR
VERSION:2.0
PRODID:-//VTuberVibes - ECPv6.15.20//NONSGML v1.0//EN
CALSCALE:GREGORIAN
METHOD:PUBLISH
X-WR-CALNAME:VTuberVibes
X-ORIGINAL-URL:https://vtubervibes.com
X-WR-CALDESC:Events for VTuberVibes
REFRESH-INTERVAL;VALUE=DURATION:PT1H
X-Robots-Tag:noindex
X-PUBLISHED-TTL:PT1H
BEGIN:VTIMEZONE
TZID:Asia/Taipei
BEGIN:STANDARD
TZOFFSETFROM:+0800
TZOFFSETTO:+0800
TZNAME:CST
DTSTART:20240101T000000
END:STANDARD
END:VTIMEZONE
BEGIN:VEVENT
DTSTART;TZID=Asia/Taipei:20250314T080000
DTEND;TZID=Asia/Taipei:20250406T170000
DTSTAMP:20260423T055514
CREATED:20250121T192411Z
LAST-MODIFIED:20250202T143340Z
UID:1062-1741939200-1743958800@vtubervibes.com
SUMMARY:時雨羽衣 Art Cafe @台灣
DESCRIPTION:活動資訊 \n\n形式：主題咖啡廳\n時間：2025/3/14（五）- 2025/4/6（日）\n地點：OU-EN CAFE（台北市錦西街 25 號）\n主題：時雨羽衣\n\n票務資訊 \n\n規則：2025/2/4起開放\n網址：https://capsule111.kktix.cc/events/shigureui\n票價：NT$ 350
URL:https://vtubervibes.com/event/%e6%99%82%e9%9b%a8%e7%be%bd%e8%a1%a3-art-cafe-%e5%8f%b0%e7%81%a3/
LOCATION:OU-EN CAFE\, 錦西街25號\, 台北市中山區\, Taiwan
CATEGORIES:Cafe
ATTACH;FMTTYPE=image/jpeg:https://vtubervibes.com/wp-content/uploads/2025/01/event-2025-03-時雨羽衣-cafe-1.jpeg
END:VEVENT
END:VCALENDAR