BEGIN:VCALENDAR
VERSION:2.0
PRODID:-//VTuberVibes - ECPv6.15.20//NONSGML v1.0//EN
CALSCALE:GREGORIAN
METHOD:PUBLISH
X-ORIGINAL-URL:https://vtubervibes.com
X-WR-CALDESC:Events for VTuberVibes
REFRESH-INTERVAL;VALUE=DURATION:PT1H
X-Robots-Tag:noindex
X-PUBLISHED-TTL:PT1H
BEGIN:VTIMEZONE
TZID:Asia/Taipei
BEGIN:STANDARD
TZOFFSETFROM:+0800
TZOFFSETTO:+0800
TZNAME:CST
DTSTART:20240101T000000
END:STANDARD
END:VTIMEZONE
BEGIN:VEVENT
DTSTART;TZID=Asia/Taipei:20250206T100000
DTEND;TZID=Asia/Taipei:20250210T180000
DTSTAMP:20260422T085616
CREATED:20250202T132008Z
LAST-MODIFIED:20250205T163155Z
UID:1159-1738836000-1739210400@vtubervibes.com
SUMMARY:第13屆台北國際動漫節
DESCRIPTION:活動資訊 \n\n形式：線下展覽\n時間：2025年 2月 7日（五）10︰30–17︰00、2025年 2月 8日（六）10︰30–17︰00、2025年 2月 9日（日）10︰30–16︰30\n地點：花博公園爭艷館（台北市中山區玉門街一號）\n演出：Relive、Limnos、花遊工作室、比鄰星域、哇啦咚咚工作室、春魚創意、NIJISANJI 「ROF-MAO」\n\n票務資訊 \n\n規則：即日起至02/06前皆可線上購票\n網址：Famiticket網站購票或者全家FamiPort機台\n票價：單日預售$120／現場$150\n\n延伸閱讀：2025台北國際動漫節VTuber活動整理
URL:https://vtubervibes.com/event/%e7%ac%ac13%e5%b1%86%e5%8f%b0%e5%8c%97%e5%9c%8b%e9%9a%9b%e5%8b%95%e6%bc%ab%e7%af%80/
LOCATION:南港展覽館一館\, 台北市南港區經貿二路1號\, 台北市\, Taiwan
CATEGORIES:Exhibition
ATTACH;FMTTYPE=image/png:https://vtubervibes.com/wp-content/uploads/2025/02/event-2025-02-ＴTACIF.png
ORGANIZER;CN="%E7%A4%BE%E5%9C%98%E6%B3%95%E4%BA%BA%E4%B8%AD%E8%8F%AF%E5%8B%95%E6%BC%AB%E5%87%BA%E7%89%88%E5%90%8C%E6%A5%AD%E5%8D%94%E9%80%B2%E6%9C%83":MAILTO:ccpa@ccpa.org.tw
END:VEVENT
END:VCALENDAR