BEGIN:VCALENDAR
VERSION:2.0
PRODID:-//VTuberVibes - ECPv6.15.20//NONSGML v1.0//EN
CALSCALE:GREGORIAN
METHOD:PUBLISH
X-ORIGINAL-URL:https://vtubervibes.com
X-WR-CALDESC:Events for VTuberVibes
REFRESH-INTERVAL;VALUE=DURATION:PT1H
X-Robots-Tag:noindex
X-PUBLISHED-TTL:PT1H
BEGIN:VTIMEZONE
TZID:Asia/Taipei
BEGIN:STANDARD
TZOFFSETFROM:+0800
TZOFFSETTO:+0800
TZNAME:CST
DTSTART:20240101T000000
END:STANDARD
END:VTIMEZONE
BEGIN:VEVENT
DTSTART;TZID=Asia/Taipei:20251004T190000
DTEND;TZID=Asia/Taipei:20251006T000000
DTSTAMP:20260420T025707
CREATED:20250928T164521Z
LAST-MODIFIED:20250928T164611Z
UID:3332-1759604400-1759708800@vtubervibes.com
SUMMARY:2025清歌踏月
DESCRIPTION:活動資訊 \n\n形式：線上演出\n時間：2025/10/04（五）- 10/06（日）19:00 – 24:00\n地點：YOUTUBE\n演出：奇露琪露、冬雲凜、魔女ルンナ、梅迪歐、劫羅、諾菈Nolla、余偉文、逆恩Neon、秋月祁、艾琳妮雅·裴利、灰妲、火吻怪盜卡門、八上菟比、杏夢、常闇やみや、希妮薇婭、羽芝扉扉 Uchi Fifi、Orelia ch.-奧蕾莉婭、昴 ‧ 艾姆、瑟菲娜 SenFina Ch.、Horsker Ch. 霍矢敋、七日、水縹そまる、凌潮raxio、咲鼠、Rumi ch. 懶貓子、知花Chika、Koana 考娜、NIPO 二步、諾鴉・奈菲墨\n網址：https://www.youtube.com/watch?v=pUHIc1xJYGA
URL:https://vtubervibes.com/event/2025%e6%b8%85%e6%ad%8c%e8%b8%8f%e6%9c%88/
LOCATION:YouTube
CATEGORIES:Festival
ATTACH;FMTTYPE=image/jpeg:https://vtubervibes.com/wp-content/uploads/2025/09/2025-moon-festival-vtuber-singing-feature.jpg
END:VEVENT
END:VCALENDAR