BEGIN:VCALENDAR
VERSION:2.0
PRODID:-//VTuberVibes - ECPv6.15.20//NONSGML v1.0//EN
CALSCALE:GREGORIAN
METHOD:PUBLISH
X-ORIGINAL-URL:https://vtubervibes.com
X-WR-CALDESC:Events for VTuberVibes
REFRESH-INTERVAL;VALUE=DURATION:PT1H
X-Robots-Tag:noindex
X-PUBLISHED-TTL:PT1H
BEGIN:VTIMEZONE
TZID:Asia/Taipei
BEGIN:STANDARD
TZOFFSETFROM:+0800
TZOFFSETTO:+0800
TZNAME:CST
DTSTART:20240101T000000
END:STANDARD
END:VTIMEZONE
BEGIN:VEVENT
DTSTART;VALUE=DATE:20250829
DTEND;VALUE=DATE:20250901
DTSTAMP:20260420T102259
CREATED:20250629T124226Z
LAST-MODIFIED:20250629T124314Z
UID:2625-1756425600-1756684799@vtubervibes.com
SUMMARY:味全龍 x hololive 主題日 hololive night
DESCRIPTION:活動資訊 \n\n形式：線下主題日\n時間：2025/8/29（五） – 2025/8/31（日），週五 18:35 開打，週末 17:05 開打\n地點：大巨蛋\n主辦單位：味全龍\n演出：尚未公布\n細節：尚未公布\n延伸閱讀：hololive與味全龍聯名活動，VTuber應援首度進軍臺北大巨蛋\n\n票務資訊 \n\n規則：2025/03/29 12:00開放線上購票\n網址：https://tix.wdragons.com/UTK0101_\n票價：平日票價為300／450／600／800／900／1100不等，週末票價為300／450／600／650／800／900／1000／1300／1600不等
URL:https://vtubervibes.com/event/%e5%91%b3%e5%85%a8%e9%be%8d-x-hololive-%e4%b8%bb%e9%a1%8c%e6%97%a5-hololive-night/
LOCATION:大巨蛋\, 台北市信義區忠孝東路四段515號\, 台北市\, 台北市\, Taiwan
CATEGORIES:Festival
ATTACH;FMTTYPE=image/jpeg:https://vtubervibes.com/wp-content/uploads/2025/06/cpbl-x-hololive.jpg
END:VEVENT
END:VCALENDAR