BEGIN:VCALENDAR
VERSION:2.0
PRODID:-//VTuberVibes - ECPv6.15.20//NONSGML v1.0//EN
CALSCALE:GREGORIAN
METHOD:PUBLISH
X-ORIGINAL-URL:https://vtubervibes.com
X-WR-CALDESC:Events for VTuberVibes
REFRESH-INTERVAL;VALUE=DURATION:PT1H
X-Robots-Tag:noindex
X-PUBLISHED-TTL:PT1H
BEGIN:VTIMEZONE
TZID:Asia/Taipei
BEGIN:STANDARD
TZOFFSETFROM:+0800
TZOFFSETTO:+0800
TZNAME:CST
DTSTART:20240101T000000
END:STANDARD
END:VTIMEZONE
BEGIN:VEVENT
DTSTART;TZID=Asia/Taipei:20250328T150000
DTEND;TZID=Asia/Taipei:20250330T223000
DTSTAMP:20260423T115544
CREATED:20250202T144435Z
LAST-MODIFIED:20250202T200900Z
UID:1174-1743174000-1743373800@vtubervibes.com
SUMMARY:子午計畫演出 @7-ELEVEN 2025 高雄櫻花季SAKURA FESTIVAL
DESCRIPTION:活動資訊 \n\n形式：線下表演\n時間：2025/03/28-30 17:00（15:00開始，子午計畫藝人表演為17:00開始）\n地點：高雄夢時代正對面廣場（高雄市前鎮區中華五路789號）\n演出：子午計畫，煌Kirali、澪Rei、橙Yuzumi、響Hibiki、浠Mizuki\n\n票務資訊 \n\n規則：即日起至2025/03/27 23:59開放線上購票\n網址：https://ibontw.com/2025SAKURAFes\n票價：超級搖滾Ａ區（座位） 預售票 $2\,999、超級搖滾Ｂ區（座位） 預售票 $2\,999、搖滾Ａ區（站位） 預售票 $1\,999／現場票 $2\,499、搖滾Ｂ區（站位） 預售票 $1\,999／現場票 $2\,499、一般區（站位） 預售票 $999／現場票 $1\,299、愛心票 $650、敬老票 $650
URL:https://vtubervibes.com/event/%e5%ad%90%e5%8d%88%e8%a8%88%e7%95%ab%e6%bc%94%e5%87%ba-7-eleven-2025-%e9%ab%98%e9%9b%84%e6%ab%bb%e8%8a%b1%e5%ad%a3sakura-festival/
LOCATION:高雄夢時代購物中心\, 高雄市前鎮區中華五路789號\, 高雄市\, Taiwan
CATEGORIES:Festival
ATTACH;FMTTYPE=image/jpeg:https://vtubervibes.com/wp-content/uploads/2025/02/event-2025-03-meridian-711-sakura.jpg
END:VEVENT
END:VCALENDAR