BEGIN:VCALENDAR
VERSION:2.0
PRODID:-//VTuberVibes - ECPv6.15.20//NONSGML v1.0//EN
CALSCALE:GREGORIAN
METHOD:PUBLISH
X-WR-CALNAME:VTuberVibes
X-ORIGINAL-URL:https://vtubervibes.com
X-WR-CALDESC:Events for VTuberVibes
REFRESH-INTERVAL;VALUE=DURATION:PT1H
X-Robots-Tag:noindex
X-PUBLISHED-TTL:PT1H
BEGIN:VTIMEZONE
TZID:Asia/Taipei
BEGIN:STANDARD
TZOFFSETFROM:+0800
TZOFFSETTO:+0800
TZNAME:CST
DTSTART:20250101T000000
END:STANDARD
END:VTIMEZONE
BEGIN:VEVENT
DTSTART;TZID=Asia/Taipei:20260227T090000
DTEND;TZID=Asia/Taipei:20260327T170000
DTSTAMP:20260419T223421
CREATED:20251220T164516Z
LAST-MODIFIED:20251220T170008Z
UID:3757-1772182800-1774630800@vtubervibes.com
SUMMARY:Dive into hololive x 國立海洋科技博物館
DESCRIPTION:活動資訊 \n\n形式：線下聯名活動\n時間：2026/2/27（五）- 2026/3/27（五）\n地點：國立海洋科技博物館（基隆市中正區北寧路367號）\n陣容：hololive JP雪花菈米、儒烏風亭螺鈿、hololive EN Ninomae Ina’nis、Koseki Bijou\n\n票務資訊 \n\n目前僅先公布周邊商品＆早鳥票資訊，預購期間：2025/12/22～ 2025/12/31，尚未公布連結​
URL:https://vtubervibes.com/event/dive-into-hololive-x-%e5%9c%8b%e7%ab%8b%e6%b5%b7%e6%b4%8b%e7%a7%91%e6%8a%80%e5%8d%9a%e7%89%a9%e9%a4%a8/
LOCATION:國立海洋科技博物館\, 基隆市中正區北寧路367號\, 基隆市\, Taiwan
CATEGORIES:Exhibition
ATTACH;FMTTYPE=image/jpeg:https://vtubervibes.com/wp-content/uploads/2025/12/Dive-into-hololive.jpg
END:VEVENT
BEGIN:VEVENT
DTSTART;TZID=Asia/Taipei:20260227T163000
DTEND;TZID=Asia/Taipei:20260227T203000
DTSTAMP:20260419T223421
CREATED:20251212T164337Z
LAST-MODIFIED:20251212T164337Z
UID:3685-1772209800-1772224200@vtubervibes.com
SUMMARY:hololive STAGE World Tour '25 -Synchronize!- @ Taipei
DESCRIPTION:活動資訊 \n\n形式：演唱會\n時間：2026/2/27（五）16:30 入場／19:00 開演\n地點：台北流行音樂中心 表演廳（台北市南港區市民大道 8 段 99 號）\n成員：桃鈴音音、Kureiji Ollie、Mori Calliope、IRyS、Nerissa Ravencroft，特別嘉賓白上吹雪、寶鐘瑪琳\n\n票務資訊 \n\n票價：TWD 5\,880／5\,780／4\,980／4\,380／4\,180／2\,880／2\,480\n【實名制登記抽選－第一階段】\n開放登記時間：2025 年 12 月 15 日（星期一）12:00 至 2025 年 12 月 17 日（星期三）23:59 截止，抽選結果預計 12 月 22（一）12:00 EMAIL通知，付款期限自收到中選通知起至 12 月 24 日（三） 23：59止。\n【實名制一般購票－第二階段】\n一般售票時間：2025 年 12 月 28 日（星期日） 12:00 開賣（實名制認證＋問答驗證）。\n售票系統：KKTIX（購票網址將於 12 月 14 日〈星期日〉於 FB 專頁與公式 X 公告）。
URL:https://vtubervibes.com/event/hololive-stage-world-tour-25-synchronize-taipei/
LOCATION:台北流行音樂中心\, 台北市南港區市民大道八段99號\, 台北市\, Taiwan
CATEGORIES:Concert
ATTACH;FMTTYPE=image/jpeg:https://vtubervibes.com/wp-content/uploads/2025/12/hololive-STAGE-World-Tour-25-Synchronize-@-Taipei-.jpg
END:VEVENT
END:VCALENDAR