BEGIN:VCALENDAR
VERSION:2.0
PRODID:-//VTuberVibes - ECPv6.15.20//NONSGML v1.0//EN
CALSCALE:GREGORIAN
METHOD:PUBLISH
X-ORIGINAL-URL:https://vtubervibes.com
X-WR-CALDESC:Events for VTuberVibes
REFRESH-INTERVAL;VALUE=DURATION:PT1H
X-Robots-Tag:noindex
X-PUBLISHED-TTL:PT1H
BEGIN:VTIMEZONE
TZID:Asia/Taipei
BEGIN:STANDARD
TZOFFSETFROM:+0800
TZOFFSETTO:+0800
TZNAME:CST
DTSTART:20240101T000000
END:STANDARD
END:VTIMEZONE
BEGIN:VEVENT
DTSTART;VALUE=DATE:20250815
DTEND;VALUE=DATE:20250818
DTSTAMP:20260421T003205
CREATED:20250610T080046Z
LAST-MODIFIED:20250610T080248Z
UID:2431-1755216000-1755475199@vtubervibes.com
SUMMARY:HTC x 春魚創意線上音樂會《第一樂章》
DESCRIPTION:活動資訊 \n\n形式：線上活動\n時間：2025/08/15（五）- 08/17（日）\n地點：網站（BEATDAY）\n演出：春魚創意極深空計畫：厄倫蒂兒 Earendel、涅默 Nemesis、埃穆亞 Oumua、熙歌 Cygnus\n\n票務資訊 \n\n規則：2025/06/10 12:00開放線上購票\n網址：https://beatday.com/#/zh_tw/product-info/a30c4420-e103-4cee-a605-4d20751eafb2\n票價：XR音樂電影 + 線上音樂會套票 $1\,080；XR音樂電影臺灣特映 $880；線上音樂會單獨票 $420
URL:https://vtubervibes.com/event/2431/
LOCATION:BEATDAY
CATEGORIES:Concert
ATTACH;FMTTYPE=image/png:https://vtubervibes.com/wp-content/uploads/2025/06/beatday-x-XDFP-02.png
END:VEVENT
END:VCALENDAR