BEGIN:VCALENDAR
VERSION:2.0
PRODID:-//VTuberVibes - ECPv6.15.20//NONSGML v1.0//EN
CALSCALE:GREGORIAN
METHOD:PUBLISH
X-WR-CALNAME:VTuberVibes
X-ORIGINAL-URL:https://vtubervibes.com
X-WR-CALDESC:Events for VTuberVibes
REFRESH-INTERVAL;VALUE=DURATION:PT1H
X-Robots-Tag:noindex
X-PUBLISHED-TTL:PT1H
BEGIN:VTIMEZONE
TZID:Asia/Taipei
BEGIN:STANDARD
TZOFFSETFROM:+0800
TZOFFSETTO:+0800
TZNAME:CST
DTSTART:20240101T000000
END:STANDARD
END:VTIMEZONE
BEGIN:VEVENT
DTSTART;VALUE=DATE:20250718
DTEND;VALUE=DATE:20250721
DTSTAMP:20260421T021511
CREATED:20250610T075724Z
LAST-MODIFIED:20250610T080104Z
UID:2427-1752796800-1753055999@vtubervibes.com
SUMMARY:HTC x 春魚創意線下音樂電影《追殺闆闆》
DESCRIPTION:活動資訊 \n\n形式：線下活動\n時間：2025/07/18（五）- 07/20（日）\n地點：VIVELAND VR 虛擬實境樂園 – 棧柒庫（高雄市鼓山區蓬萊路1之15號）\n演出：春魚創意極深空計畫：厄倫蒂兒 Earendel、涅默 Nemesis、埃穆亞 Oumua、熙歌 Cygnus\n\n票務資訊 \n\n規則：2025/06/10 12:00開放線上購票\n網址：https://beatday.com/#/zh_tw/product-info/a30c4420-e103-4cee-a605-4d20751eafb2\n票價：XR音樂電影 + 線上音樂會套票 $1\,080；XR音樂電影臺灣特映 $880；線上音樂會單獨票 $420
URL:https://vtubervibes.com/event/htc-x-%e6%98%a5%e9%ad%9a%e5%89%b5%e6%84%8f%e7%b7%9a%e4%b8%8b%e9%9f%b3%e6%a8%82%e9%9b%bb%e5%bd%b1%e3%80%8a%e8%bf%bd%e6%ae%ba%e9%97%86%e9%97%86%e3%80%8b/
LOCATION:VIVELAND VR 虛擬實境樂園 – 棧柒庫\, 高雄市鼓山區蓬萊路1之15號\, Kaohsiung\, Taiwan
CATEGORIES:Concert
ATTACH;FMTTYPE=image/jpeg:https://vtubervibes.com/wp-content/uploads/2025/06/beatday-x-XDFP.jpg
END:VEVENT
END:VCALENDAR