BEGIN:VCALENDAR
VERSION:2.0
PRODID:-//VTuberVibes - ECPv6.15.20//NONSGML v1.0//EN
CALSCALE:GREGORIAN
METHOD:PUBLISH
X-WR-CALNAME:VTuberVibes
X-ORIGINAL-URL:https://vtubervibes.com
X-WR-CALDESC:Events for VTuberVibes
REFRESH-INTERVAL;VALUE=DURATION:PT1H
X-Robots-Tag:noindex
X-PUBLISHED-TTL:PT1H
BEGIN:VTIMEZONE
TZID:Asia/Taipei
BEGIN:STANDARD
TZOFFSETFROM:+0800
TZOFFSETTO:+0800
TZNAME:CST
DTSTART:20250101T000000
END:STANDARD
END:VTIMEZONE
BEGIN:VEVENT
DTSTART;VALUE=DATE:20260102
DTEND;VALUE=DATE:20260127
DTSTAMP:20260419T040323
CREATED:20251212T163629Z
LAST-MODIFIED:20251212T165011Z
UID:3682-1767312000-1769471999@vtubervibes.com
SUMMARY:にじさんじフェス展 in Taipei
DESCRIPTION:活動資訊 \n\n形式：展覽\n時間：2026/1/2（五）- 2026/1/26（一）\n地點：台北流行音樂中心 文化館 二樓特展廳／臺北市南港區市民大道八段99號\n簡介：2025 年於東京展出的「にじさんじフェス展（NIJISANJI FES 展）」以全新展區重現FES世界——2026年將於台北舉辦海外首次展出！讓台灣的粉絲近距離重溫「にじさんじフェス（NIJISANJI FES）」的感動與魅力✨\n\n票務資訊 \n\n預售票：特典預售套票$1\,099、當日票$700、預售票$599
URL:https://vtubervibes.com/event/%e3%81%ab%e3%81%98%e3%81%95%e3%82%93%e3%81%98%e3%83%95%e3%82%a7%e3%82%b9%e5%b1%95-in-taipei/
LOCATION:台北流行音樂中心\, 台北市南港區市民大道八段99號\, 台北市\, Taiwan
CATEGORIES:Exhibition
ATTACH;FMTTYPE=image/jpeg:https://vtubervibes.com/wp-content/uploads/2025/12/Nijisanji展inTaipei原始Banner_KKTIX-scaled.jpg
END:VEVENT
BEGIN:VEVENT
DTSTART;TZID=Asia/Taipei:20260114T120000
DTEND;TZID=Asia/Taipei:20260211T200000
DTSTAMP:20260419T040323
CREATED:20260117T160547Z
LAST-MODIFIED:20260118T091908Z
UID:4050-1768392000-1770840000@vtubervibes.com
SUMMARY:CRYSTAL CLOCKWORK - にじさんじ NIJISANJI EN × animate cafe 台北北門店
DESCRIPTION:活動資訊 \n\n形式：線下咖啡廳\n時間：2026/1/14（三）～2/11（三）\n地點：animate cafe 台北北門店（台北市博愛路7號）\n陣容：三枝明那、長尾景、Shu Yamino、夢追翔、Yang Nari、戌亥床、町田千麻、黑井柴\n\n票務資訊 \n\n免費入場、無需預約；人多時進店向店員索取整理券再依照時間進場
URL:https://vtubervibes.com/event/crystal-clockwork-nijisanji-en-x-animate-cafe-%e5%8f%b0%e5%8c%97%e5%8c%97%e9%96%80%e5%ba%97/
LOCATION:animate cafe 台北北門店\, 台北市博愛路7號\, Taipei City\, Taiwan
CATEGORIES:Cafe
ATTACH;FMTTYPE=image/jpeg:https://vtubervibes.com/wp-content/uploads/2026/01/202601-CRYSTAL-CLOCKWORK-NIJISANJI-EN-×-animate-cafe-taipei.jpg
END:VEVENT
END:VCALENDAR