BEGIN:VCALENDAR
VERSION:2.0
PRODID:-//VTuberVibes - ECPv6.15.20//NONSGML v1.0//EN
CALSCALE:GREGORIAN
METHOD:PUBLISH
X-WR-CALNAME:VTuberVibes
X-ORIGINAL-URL:https://vtubervibes.com
X-WR-CALDESC:Events for VTuberVibes
REFRESH-INTERVAL;VALUE=DURATION:PT1H
X-Robots-Tag:noindex
X-PUBLISHED-TTL:PT1H
BEGIN:VTIMEZONE
TZID:Asia/Taipei
BEGIN:STANDARD
TZOFFSETFROM:+0800
TZOFFSETTO:+0800
TZNAME:CST
DTSTART:20240101T000000
END:STANDARD
END:VTIMEZONE
BEGIN:VEVENT
DTSTART;TZID=Asia/Taipei:20250823T133000
DTEND;TZID=Asia/Taipei:20250823T213000
DTSTAMP:20260425T005203
CREATED:20250708T160207Z
LAST-MODIFIED:20250708T160207Z
UID:2731-1755955800-1755984600@vtubervibes.com
SUMMARY:2025 泡影殘響 VTuber X BAND
DESCRIPTION:活動資訊 \n\n形式：線下演出\n時間：2025/8/23（六），分為午後場13:30與夜間場19:30\n地點：台北市萬華區昆明街76樓B1\n演出：VTuber + BAND 表演，VTuber參與名單：小金碧碧 JinBee、心咲 KOE、考娜 Koana、希珥 Shir、諾鴉・奈菲墨 Norah、蘆棠布奈 Rutan\n\n票務資訊 \n\n規則：即日起開放線上購票\n網址：https://koko.kktix.cc/events/bubble2025\n票價：午後甜點套餐(含周邊特典)：NT$1\,160／午後咖啡：NT$800；星光特調套餐(含周邊特典)：NT$1\,160／星光蘇打：NT$800
URL:https://vtubervibes.com/event/2025-%e6%b3%a1%e5%bd%b1%e6%ae%98%e9%9f%bf-vtuber-x-band/
LOCATION:杰克音樂\, 台北市萬華區昆明街76樓B1\, 台北市\, Taiwan
CATEGORIES:Meet
ATTACH;FMTTYPE=image/png:https://vtubervibes.com/wp-content/uploads/2025/07/2025-泡影殘響-VTuber-X-BAND.png
END:VEVENT
END:VCALENDAR