BEGIN:VCALENDAR
VERSION:2.0
PRODID:-//VTuberVibes - ECPv6.15.20//NONSGML v1.0//EN
CALSCALE:GREGORIAN
METHOD:PUBLISH
X-ORIGINAL-URL:https://vtubervibes.com
X-WR-CALDESC:Events for VTuberVibes
REFRESH-INTERVAL;VALUE=DURATION:PT1H
X-Robots-Tag:noindex
X-PUBLISHED-TTL:PT1H
BEGIN:VTIMEZONE
TZID:Asia/Taipei
BEGIN:STANDARD
TZOFFSETFROM:+0800
TZOFFSETTO:+0800
TZNAME:CST
DTSTART:20240101T000000
END:STANDARD
END:VTIMEZONE
BEGIN:VEVENT
DTSTART;TZID=Asia/Taipei:20250928T110000
DTEND;TZID=Asia/Taipei:20251130T193000
DTSTAMP:20260424T050343
CREATED:20250928T165437Z
LAST-MODIFIED:20260105T151647Z
UID:3338-1759057200-1764531000@vtubervibes.com
SUMMARY:HOLOSTARS English × KIRABASE信義基地
DESCRIPTION:活動資訊 \n\n形式：聯名餐廳\n時間：2025/09/28（日）- 2025/11/30（日）\n地點：KIRABASE信義基地（台北市信義區松壽路12號4樓）\n名單：Jurard T Rexford（ジュラルド・ティー・レクスフォード）、Goldbullet（ゴールドブレット）、Octavio（オクタビオ）、Crimzon Ruze（クリムゾン・ルーズ）\n\n票務資訊 \n\n活動一：消費合作餐點可獲得特典\n\n消費合作餐點：即可獲得餐墊紙1張(全1款，不可累贈，以人頭計算)\n消費合作餐點：即可獲得對應餐插牌1張(全4款，可累贈)\n消費合作飲品：即可獲得對應紙杯墊1張（全4款，可累贈）\n\n\n活動二：消費合作餐飲加購周邊\n\n需來店消費合作餐飲，方可預購限定周邊 (數量有限，售完為止)，包含雙插壓克力立牌(全4款)、壓克力吊飾(全4款)、雙閃大胸章(全4款)、色紙(全4款)、明信片(全1款)\n\n\n活動三：滿額加價抽拍立得小卡\n\n來店消費合作餐飲、周邊每滿 600 元，可花費100元加購盲抽ARMIS小卡。\n\n\n規則：透過inline預約
URL:https://vtubervibes.com/event/holostars-english-x-kirabase%e4%bf%a1%e7%be%a9%e5%9f%ba%e5%9c%b0/
LOCATION:KIRABASE信義基地\, 台北市信義區松壽路12號4樓\, 台北市\, 台北市\, Taiwan
CATEGORIES:Cafe
ATTACH;FMTTYPE=image/jpeg:https://vtubervibes.com/wp-content/uploads/2025/09/holostarts-en-x-kirabase.jpg
END:VEVENT
BEGIN:VEVENT
DTSTART;TZID=Asia/Taipei:20251109T123000
DTEND;TZID=Asia/Taipei:20251109T140000
DTSTAMP:20260424T050343
CREATED:20250928T170542Z
LAST-MODIFIED:20250928T170616Z
UID:3343-1762691400-1762696800@vtubervibes.com
SUMMARY:乙夏鈴粉絲見面會
DESCRIPTION:活動資訊 \n\n形式：線下見面會\n時間：2025/11/09（日）12:30\n地點：後台 Backstage Café（台北市大安區羅斯福路四段1號台大綜合體育館2樓）\n演出：乙夏鈴\n英文：Otsuka Ray Fan Meeting in Taipei\n\n票務資訊 \n\n規則：2025/09/21 13:00開放線上購票\n網址：https://kuroko.kktix.cc/events/706c6bbc\n票價：\n\nP票（Premium）｜3500元｜限定 14名\n【P票特典】握手會參加資格、乙夏鈴手作小物、親筆簽名板、特製證件套、應援團扇、夏族識別證\nS票｜2200元｜限定 32名\n【S票特典】握手會參加資格、特製證件套、應援團扇、夏族識別證\nA票｜1200元｜【A票特典】應援團扇、夏族識別證
URL:https://vtubervibes.com/event/%e4%b9%99%e5%a4%8f%e9%88%b4%e7%b2%89%e7%b5%b2%e8%a6%8b%e9%9d%a2%e6%9c%83/
LOCATION:後台 Backstage Café\, 台北市大安區羅斯福路四段1號\, 台北市\, 台北市\, Taiwan
CATEGORIES:Meet
ATTACH;FMTTYPE=image/png:https://vtubervibes.com/wp-content/uploads/2025/09/otsuka-ray-fan-meeting-2025.png
ORGANIZER;CN="%E9%BB%91%E5%AD%90%E5%A8%9B%E6%A8%82%E6%9C%89%E9%99%90%E5%85%AC%E5%8F%B8":MAILTO:service@kurokos.tw
END:VEVENT
END:VCALENDAR