BEGIN:VCALENDAR
VERSION:2.0
PRODID:-//VTuberVibes - ECPv6.15.20//NONSGML v1.0//EN
CALSCALE:GREGORIAN
METHOD:PUBLISH
X-ORIGINAL-URL:https://vtubervibes.com
X-WR-CALDESC:Events for VTuberVibes
REFRESH-INTERVAL;VALUE=DURATION:PT1H
X-Robots-Tag:noindex
X-PUBLISHED-TTL:PT1H
BEGIN:VTIMEZONE
TZID:Asia/Taipei
BEGIN:STANDARD
TZOFFSETFROM:+0800
TZOFFSETTO:+0800
TZNAME:CST
DTSTART:20240101T000000
END:STANDARD
END:VTIMEZONE
BEGIN:VEVENT
DTSTART;TZID=Asia/Taipei:20250208T133000
DTEND;TZID=Asia/Taipei:20250208T140000
DTSTAMP:20260423T063018
CREATED:20250202T133009Z
LAST-MODIFIED:20250205T160827Z
UID:1167-1739021400-1739023200@vtubervibes.com
SUMMARY:「ROF-MAO」台北國際動漫節舞台表演
DESCRIPTION:活動資訊 \n\n形式：線下舞台活動\n時間：2025年2月8日（六）13:30\n地點：南港展覽館一館（台北市南港區經貿二路1號），ICHIBAN JAPAN日本館舞台\n演出：ROF-MAO（加賀美ハヤト/剣持刀也/不破湊/甲斐田晴）\n\n票務資訊 \n\n規則：1月17日（五）起在安利美特台北店購買「NIJISANJI」與「NIJISANJI EN」相關商品滿NT$700元，即可獲得優先入場卷1張（限量200張）；活動演出當天（2025年2月8日）早上10:30，ICHIBAN JAPAN日本館舞台入口也將發放一般入場券（限量100張）。\n注意事項：若活動當天參加人數高於201名以上時，優先入場券發放條件將改成隨機抽獎的方式。
URL:https://vtubervibes.com/event/%e3%80%8crof-mao%e3%80%8d%e5%8f%b0%e5%8c%97%e5%9c%8b%e9%9a%9b%e5%8b%95%e6%bc%ab%e7%af%80%e8%88%9e%e5%8f%b0%e8%a1%a8%e6%bc%94/
LOCATION:南港展覽館一館\, 台北市南港區經貿二路1號\, 台北市\, Taiwan
CATEGORIES:Meet
ATTACH;FMTTYPE=image/jpeg:https://vtubervibes.com/wp-content/uploads/2025/02/event-2025-02-TACIF-rofmao.jpg
END:VEVENT
END:VCALENDAR