BEGIN:VCALENDAR
VERSION:2.0
PRODID:-//VTuberVibes - ECPv6.15.20//NONSGML v1.0//EN
CALSCALE:GREGORIAN
METHOD:PUBLISH
X-ORIGINAL-URL:https://vtubervibes.com
X-WR-CALDESC:Events for VTuberVibes
REFRESH-INTERVAL;VALUE=DURATION:PT1H
X-Robots-Tag:noindex
X-PUBLISHED-TTL:PT1H
BEGIN:VTIMEZONE
TZID:Asia/Taipei
BEGIN:STANDARD
TZOFFSETFROM:+0800
TZOFFSETTO:+0800
TZNAME:CST
DTSTART:20240101T000000
END:STANDARD
END:VTIMEZONE
BEGIN:VEVENT
DTSTART;TZID=Asia/Taipei:20250314T190000
DTEND;TZID=Asia/Taipei:20250315T203000
DTSTAMP:20260421T115654
CREATED:20250121T192942Z
LAST-MODIFIED:20250305T192801Z
UID:1066-1741978800-1742070600@vtubervibes.com
SUMMARY:瑪格麗特．諾爾絲《新月球計畫Moonlight》3D化實體魔術秀
DESCRIPTION:活動資訊 \n\n形式：線下魔術秀\n時間：2025/3/14-15（五）（六）17:30入場 / 19:00 開演\n地點：高雄流行音樂中心 LIVE WAREHOUSE（高雄市鹽埕區大義街2-5號大義倉庫C10）\n演出：箱箱 瑪格麗特．諾爾絲\n\n票務資訊 \n\n規則：2024/02/14（五）12:00 開始販售\n網址：https://www.indievox.com/activity/detail/25_iv0337483\n票價：吸狐度假區 (前場)：預售 $2700｜現場 $3000；狐教信仰區 (後場)：預售 $2000｜現場 $2300；身障席 / 陪同席：$1000
URL:https://vtubervibes.com/event/%e7%91%aa%e6%a0%bc%e9%ba%97%e7%89%b9%ef%bc%8e%e8%ab%be%e7%88%be%e7%b5%b2%e3%80%8a%e6%96%b0%e6%9c%88%e7%90%83%e8%a8%88%e7%95%abmoonlight%e3%80%8b3d%e5%8c%96%e5%af%a6%e9%ab%94%e9%ad%94%e8%a1%93%e7%a7%80/
LOCATION:高流LIVE WAREHOUSE\, 高雄市鹽埕區大義街2-5號大義倉庫C10\, 高雄市\, Taiwan
CATEGORIES:Meet
ATTACH;FMTTYPE=image/png:https://vtubervibes.com/wp-content/uploads/2025/01/event-2025-03-Margaret-Moonlight-1.png
END:VEVENT
END:VCALENDAR