BEGIN:VCALENDAR
VERSION:2.0
PRODID:-//VTuberVibes - ECPv6.15.20//NONSGML v1.0//EN
CALSCALE:GREGORIAN
METHOD:PUBLISH
X-WR-CALNAME:VTuberVibes
X-ORIGINAL-URL:https://vtubervibes.com
X-WR-CALDESC:Events for VTuberVibes
REFRESH-INTERVAL;VALUE=DURATION:PT1H
X-Robots-Tag:noindex
X-PUBLISHED-TTL:PT1H
BEGIN:VTIMEZONE
TZID:Asia/Taipei
BEGIN:STANDARD
TZOFFSETFROM:+0800
TZOFFSETTO:+0800
TZNAME:CST
DTSTART:20240101T000000
END:STANDARD
END:VTIMEZONE
BEGIN:VEVENT
DTSTART;VALUE=DATE:20250823
DTEND;VALUE=DATE:20250824
DTSTAMP:20260422T092536
CREATED:20250629T122204Z
LAST-MODIFIED:20250803T025139Z
UID:2620-1755907200-1755993599@vtubervibes.com
SUMMARY:夏響 JAPAN × TAIWAN Virtual Fes 2025
DESCRIPTION:活動資訊 \n\n形式：線上演唱會\n時間：2025/8/23\n地點：線上\n主辦單位：個人勢VTuber水縹そまる × 子午計畫VTuber浠Mizuki\n演出：埃穆亞、朔Sakuro、天羽音みらん和常闇やみや等人\n細節：尚未公布\n\n目前已知名單： \n🌞 Daytime Division\n・三日月ちゆる\n・煌Kirali\n・ふぉるて\n・銀刻INK\n・朧Oboro\n・音御光歌\n・杏仁ミル\n・巫てんり\n・賽特珞\n・崎塔\n・リリア\n・玥Itsuki\n・哈魯\n・鳳牙るき\n・早乙女あずき\n・洛可洛斯特\n・穆恩佐\n・艾斯珀達\n・松永伊織\n・KSP \n🌙 Night Division\n・埃穆亞\n・天羽音みらん\n・朔Sakuro\n・常闇やみや\n・澪Rei\n・ヨノ\n・Ellise\n・雲隙光\n・祈Iruni\n・涅爾菲\n・希洛萊昂\n・むんもっしゅ\n・望月シュン\n・与一\n・よしか⁂\n・鈍色聴\n・厄倫蒂兒\n・久田はくぜん\n・鴉紋ゆうく\n・稍麦 \n宣傳PV：https://www.youtube.com/watch?v=IGf3kJzrjT0
URL:https://vtubervibes.com/event/%e5%a4%8f%e9%9f%bf-japan-x-taiwan-virtual-fes-2025/
CATEGORIES:Festival
ATTACH;FMTTYPE=image/jpeg:https://vtubervibes.com/wp-content/uploads/2025/06/JAPAN-×-TAIWAN-Virtual-Fes-2025-feature.jpg
END:VEVENT
END:VCALENDAR